BEGIN:VCALENDAR
VERSION:2.0
PRODID:-//Santa Clarita Valley Corvette Club - ECPv6.15.14//NONSGML v1.0//EN
CALSCALE:GREGORIAN
METHOD:PUBLISH
X-WR-CALNAME:Santa Clarita Valley Corvette Club
X-ORIGINAL-URL:https://scvcc.org
X-WR-CALDESC:Events for Santa Clarita Valley Corvette Club
REFRESH-INTERVAL;VALUE=DURATION:PT1H
X-Robots-Tag:noindex
X-PUBLISHED-TTL:PT1H
BEGIN:VTIMEZONE
TZID:America/Los_Angeles
BEGIN:DAYLIGHT
TZOFFSETFROM:-0800
TZOFFSETTO:-0700
TZNAME:PDT
DTSTART:20180311T100000
END:DAYLIGHT
BEGIN:STANDARD
TZOFFSETFROM:-0700
TZOFFSETTO:-0800
TZNAME:PST
DTSTART:20181104T090000
END:STANDARD
BEGIN:DAYLIGHT
TZOFFSETFROM:-0800
TZOFFSETTO:-0700
TZNAME:PDT
DTSTART:20190310T100000
END:DAYLIGHT
BEGIN:STANDARD
TZOFFSETFROM:-0700
TZOFFSETTO:-0800
TZNAME:PST
DTSTART:20191103T090000
END:STANDARD
BEGIN:DAYLIGHT
TZOFFSETFROM:-0800
TZOFFSETTO:-0700
TZNAME:PDT
DTSTART:20200308T100000
END:DAYLIGHT
BEGIN:STANDARD
TZOFFSETFROM:-0700
TZOFFSETTO:-0800
TZNAME:PST
DTSTART:20201101T090000
END:STANDARD
BEGIN:DAYLIGHT
TZOFFSETFROM:-0800
TZOFFSETTO:-0700
TZNAME:PDT
DTSTART:20210314T100000
END:DAYLIGHT
BEGIN:STANDARD
TZOFFSETFROM:-0700
TZOFFSETTO:-0800
TZNAME:PST
DTSTART:20211107T090000
END:STANDARD
BEGIN:DAYLIGHT
TZOFFSETFROM:-0800
TZOFFSETTO:-0700
TZNAME:PDT
DTSTART:20220313T100000
END:DAYLIGHT
BEGIN:STANDARD
TZOFFSETFROM:-0700
TZOFFSETTO:-0800
TZNAME:PST
DTSTART:20221106T090000
END:STANDARD
BEGIN:DAYLIGHT
TZOFFSETFROM:-0800
TZOFFSETTO:-0700
TZNAME:PDT
DTSTART:20230312T100000
END:DAYLIGHT
BEGIN:STANDARD
TZOFFSETFROM:-0700
TZOFFSETTO:-0800
TZNAME:PST
DTSTART:20231105T090000
END:STANDARD
BEGIN:DAYLIGHT
TZOFFSETFROM:-0800
TZOFFSETTO:-0700
TZNAME:PDT
DTSTART:20240310T100000
END:DAYLIGHT
BEGIN:STANDARD
TZOFFSETFROM:-0700
TZOFFSETTO:-0800
TZNAME:PST
DTSTART:20241103T090000
END:STANDARD
BEGIN:DAYLIGHT
TZOFFSETFROM:-0800
TZOFFSETTO:-0700
TZNAME:PDT
DTSTART:20250309T100000
END:DAYLIGHT
BEGIN:STANDARD
TZOFFSETFROM:-0700
TZOFFSETTO:-0800
TZNAME:PST
DTSTART:20251102T090000
END:STANDARD
BEGIN:DAYLIGHT
TZOFFSETFROM:-0800
TZOFFSETTO:-0700
TZNAME:PDT
DTSTART:20260308T100000
END:DAYLIGHT
BEGIN:STANDARD
TZOFFSETFROM:-0700
TZOFFSETTO:-0800
TZNAME:PST
DTSTART:20261101T090000
END:STANDARD
END:VTIMEZONE
BEGIN:VEVENT
DTSTART;TZID=America/Los_Angeles:20250621T110000
DTEND;TZID=America/Los_Angeles:20250621T110000
DTSTAMP:20260424T192449
CREATED:20250602T224341Z
LAST-MODIFIED:20250602T224949Z
UID:41511-1750503600-1750503600@scvcc.org
SUMMARY:06.21.2024 - SCVCC Summer Picnic at Tesoro Adobe Historic Park
DESCRIPTION:SCVCC Summer Picnic at Tesoro Adobe Historic Park \nSaturday ~ June 21st\nAnnual Picnic at Tesoro Adobe Historic Park at 29350 Avenido Rancho Tesoro\, Valencia from 11 AM to 3 PM.  BarBQ Chicken\, Hamburgers\, Hot Dogs provided.  Bring Side dishes.  Bring camp chairs and EZ ups.  Games will be played!  Limited to fifty members only.  Bottled water will be provided.  No alcohol allowed.
URL:https://scvcc.org/event/at-tesoro-adobe-historic-park/
LOCATION:Tesoro Adobe Historic Park\, 29350 Avenido Rancho Tesoro\, Valencia\, CA
CATEGORIES:Picnic
ATTACH;FMTTYPE=image/png:https://scvcc.org/wp-content/uploads/2018/06/Pic-11.png
END:VEVENT
BEGIN:VEVENT
DTSTART;TZID=America/Los_Angeles:20240615T093000
DTEND;TZID=America/Los_Angeles:20240615T150000
DTSTAMP:20260424T192449
CREATED:20240604T035916Z
LAST-MODIFIED:20240604T035916Z
UID:41281-1718443800-1718463600@scvcc.org
SUMMARY:06.15.2024 - SCVCC Summer Picnic at Steckel Park
DESCRIPTION:SCVCC Summer Picnic at Steckel Park in Santa Paula\nSaturday ~ June 15th\nCome and join us for a great afternoon!  The club will be\nproviding Burgers\, Hot Dogs and Chicken thighs. We are planning to have an Ice Cream Truck there. There will be lots\nof Games. Let’s have fun! \nHere is what you need to know…\nMeet at the Walmart at the corner of Newhall Ranch Road and Copperhill\n* 09:30 am – Meet to sign waiver (pay your parking fee $5.00/Cash Only Please)\n* Parking for each car is $5.00 (Please bring exact amount\, no change available)\n* 10:00 am – Depart 11:00 am\n* * Bring your own adult beverage (if you choose to do so)\, folding chair & wear your\nclub attire \n** Sign up at the General Meeting to participate or Contact Bob Haas @ rehaas1951@gmail.com
URL:https://scvcc.org/event/06-15-2024-scvcc-summer-picnic-at-steckel-park/
LOCATION:Steckel Park\, 8080 Mistletoe Rd\, Santa Paula\, CA\, 93060
CATEGORIES:Picnic
ATTACH;FMTTYPE=image/png:https://scvcc.org/wp-content/uploads/2018/06/Pic-11.png
END:VEVENT
BEGIN:VEVENT
DTSTART;TZID=America/Los_Angeles:20230603T103000
DTEND;TZID=America/Los_Angeles:20230603T160000
DTSTAMP:20260424T192449
CREATED:20230404T211723Z
LAST-MODIFIED:20230526T200205Z
UID:40562-1685788200-1685808000@scvcc.org
SUMMARY:06.03.2023 - SCVCC Summer Picnic at Steckel Park
DESCRIPTION:SCVCC Summer Picnic at Steckel Park in Santa Paula\nSaturday ~ June 3rd\nCome and join us for a great afternoon!  There will be a catered BBQ lunch\, games\, DJ\, 50/50 and more…… \nHere is what you need to know…\nMeet at the Walmart at the corner of Newhall Ranch Road and Copperhill\n* 10:00 am – Meet to sign waiver (pay your parking fee $5.00/Cash Only Please)\n* Parking for each car is $5.00 (Please bring exact amount\, no change available)\n* 10:30 am – Depart 11:15 am – Arrive 12:00 pm – Lunch\n* 11:30 am to 4:00 pm – Event time\n* Bring your own adult beverage (if you choose to do so)\, folding chair & wear your\nclub attire\n* Event is free for Regular Members\, for Associates & guests cost is $25. per\nperson \n** Sign up at the General Meeting to participate or Contact Karen @ 661-753-6226 or davnkrn@socal.rr.com \nClick here to download the event PDF
URL:https://scvcc.org/event/06-03-2023-scvcc-summer-picnic-at-steckel-park/
LOCATION:Steckel Park\, 8080 Mistletoe Rd\, Santa Paula\, CA\, 93060
CATEGORIES:Picnic
ATTACH;FMTTYPE=image/jpeg:https://scvcc.org/wp-content/uploads/2019/05/SCVCC-Picnic-e1556832422789.jpg
END:VEVENT
BEGIN:VEVENT
DTSTART;TZID=America/Los_Angeles:20220618T103000
DTEND;TZID=America/Los_Angeles:20220618T160000
DTSTAMP:20260424T192449
CREATED:20220412T222644Z
LAST-MODIFIED:20220412T222644Z
UID:39925-1655548200-1655568000@scvcc.org
SUMMARY:06.18 - SCVCC Summer Picnic at Steckel Park
DESCRIPTION:SCVCC Summer Picnic at Steckel Park in Santa Paula\nSaturday ~ June 18th\nCome and join us for a great afternoon!  There will be a catered BBQ lunch\, games\, prizes and \nmore…… \nHere is what you need to know…\nMeet at the Walmart at the corner of Newhall Ranch Road and Copperhill\n* 10:00 am – Meet to sign waiver (pay your parking fee $5.00)\n* Parking for each car is $5.00 (Please bring exact amount\, no change available)\n* 10:30 am – Depart 11:15 am – Arrive 12:00 pm – Lunch\n* 11:30 am to 4:00 pm – Event time\n* Bring your own adult beverage (if you choose to do so)\, folding chair & wear your\nclub attire\n* Event is free for Regular Members\, for Associates & guests cost is $25. per\nperson\nContact Karen Jewett to sign up or if you need more information at davnkrn@socal.rr.com or 661.753.6226 \nClick here to download the event PDF
URL:https://scvcc.org/event/06-18-scvcc-summer-picnic-at-steckel-park/
LOCATION:Steckel Park\, 8080 Mistletoe Rd\, Santa Paula\, CA\, 93060
CATEGORIES:Picnic
ATTACH;FMTTYPE=image/jpeg:https://scvcc.org/wp-content/uploads/2019/05/SCVCC-Picnic-e1556832422789.jpg
END:VEVENT
BEGIN:VEVENT
DTSTART;TZID=America/Los_Angeles:20210619T103000
DTEND;TZID=America/Los_Angeles:20210619T160000
DTSTAMP:20260424T192449
CREATED:20210523T220435Z
LAST-MODIFIED:20210524T211546Z
UID:39193-1624098600-1624118400@scvcc.org
SUMMARY:06.19 - SCVCC Annual Picnic at Steckel Park
DESCRIPTION:Annual SCVCC Summer Picnic at Steckel Park in Santa Paula \nSaturday ~ June 19th \nCome and join us for a great afternoon!  There will be a BBQ lunch\, games\, prizes and \nmore……  We are going with a western theme\, so put on those boots &/or cowboy hat and \ncome join us for our 1st big event in over a year! \nContact Karen Jewett to sign up or if you need more information at davnkrn@socal.rr.com or 661.753.6226 \nClick here to download the event PDF
URL:https://scvcc.org/event/06-19-scvcc-annual-picnic-at-steckel-park/
LOCATION:Steckel Park\, 8080 Mistletoe Rd\, Santa Paula\, CA\, 93060
CATEGORIES:Picnic
ATTACH;FMTTYPE=image/jpeg:https://scvcc.org/wp-content/uploads/2019/05/SCVCC-Picnic-e1556832422789.jpg
END:VEVENT
BEGIN:VEVENT
DTSTART;TZID=America/Los_Angeles:20190622T100000
DTEND;TZID=America/Los_Angeles:20190622T160000
DTSTAMP:20260424T192449
CREATED:20190502T211424Z
LAST-MODIFIED:20210208T190906Z
UID:4843-1561197600-1561219200@scvcc.org
SUMMARY:2019.06.22 - 3rd Annual SCVCC Summer Picnic
DESCRIPTION:Here’s what you need to know… \nMeet at the Walmart at the corner of Newhall Ranch Road and Copperhill \n\n10:00 am – Meet to sign waivers\n10:30 am – Depart\nNoon to 4:00 pm – Event time\nBring adult beverage of your choice\, folding chair & wear your club attire.\nParking for each car is $4.00\, cash.  Suggested to bringing four ones.\nEvent is paid for by the club and is free to members;\nAssociates and Guests $20 ea.\n\nContact Karen Jewett for more info at davnkrn@socal.rr.com or 661.753.6226
URL:https://scvcc.org/event/2019-06-22-3rd-annual-scvcc-summer-picnic/
LOCATION:Steckel Park\, 8080 Mistletoe Rd\, Santa Paula\, CA\, 93060
CATEGORIES:Picnic
ATTACH;FMTTYPE=image/jpeg:https://scvcc.org/wp-content/uploads/2019/05/SCVCC-Picnic-e1556832422789.jpg
END:VEVENT
END:VCALENDAR